BEGIN:VCALENDAR
VERSION:2.0
PRODID:-//pretix//pretix.eu//
BEGIN:VTIMEZONE
TZID:Europe/Berlin
BEGIN:STANDARD
DTSTART:20001029T040000
RRULE:FREQ=YEARLY;BYDAY=-1SU;BYMONTH=10
TZNAME:CET
TZOFFSETFROM:+0200
TZOFFSETTO:+0100
END:STANDARD
BEGIN:DAYLIGHT
DTSTART:20000326T030000
RRULE:FREQ=YEARLY;BYDAY=-1SU;BYMONTH=3
TZNAME:CEST
TZOFFSETFROM:+0100
TZOFFSETTO:+0200
END:DAYLIGHT
END:VTIMEZONE
BEGIN:VEVENT
UID:pretix-tvvoerde-fu-1-mannschaft-4095239@tvvoerde.vereinsticket.de
DTSTART;TZID=Europe/Berlin:20240218T150000
DTEND;TZID=Europe/Berlin:20240218T164500
DESCRIPTION:Tickets: https://tvvoerde.vereinsticket.de/fu-1-mannschaft/4095
 239/\nVeranstalter: TV Voerde
DTSTAMP:20260424T043245Z
LOCATION:Sportzentrum Voerde\, Rönskenstraße 54\, 46562 Voerde
SUMMARY:TV Voerde - PSV Wesel II
END:VEVENT
END:VCALENDAR
